BEGIN:VCALENDAR
VERSION:2.0
PRODID:-//Oxfordshire Wellness - ECPv6.15.18//NONSGML v1.0//EN
CALSCALE:GREGORIAN
METHOD:PUBLISH
X-WR-CALNAME:Oxfordshire Wellness
X-ORIGINAL-URL:https://oxfordshirewellness.co.uk
X-WR-CALDESC:Events for Oxfordshire Wellness
REFRESH-INTERVAL;VALUE=DURATION:PT1H
X-Robots-Tag:noindex
X-PUBLISHED-TTL:PT1H
BEGIN:VTIMEZONE
TZID:UTC
BEGIN:STANDARD
TZOFFSETFROM:+0000
TZOFFSETTO:+0000
TZNAME:UTC
DTSTART:20250101T000000
END:STANDARD
END:VTIMEZONE
BEGIN:VEVENT
DTSTART;TZID=UTC:20260515T190000
DTEND;TZID=UTC:20260515T210000
DTSTAMP:20260423T132226
CREATED:20260303T102856Z
LAST-MODIFIED:20260303T102856Z
UID:1753-1778871600-1778878800@oxfordshirewellness.co.uk
SUMMARY:Shiatsu & Sound
DESCRIPTION:Join us in this beautiful\, calming space for a relaxing\, rebalancing evening of Shiatsu massage and sound healing. \nThis event includes a bespoke 5-minute shiatsu massage that works on acupressure points to release tension and stress and realign your energy. These treatments will take place during a guided relaxation/yoga nidra and will then be followed by a deeply restorative\, immersive sound bath experience for an hour. \nThe sound bath will feature a range of deeply resonant instruments\, from large Tibetan singing bowls and quartz crystal bowls to powerful hand gongs\, chimes and shamanic drums. \nThis session will be about releasing energy that no longer serves you\, or inviting in a renewed sense of purpose\, peace and relaxation. \nThe evening concludes with a healing circle\, plus connections over drinks and snacks.
URL:https://oxfordshirewellness.co.uk/event/shiatsu-sound-may15/
LOCATION:The Om-Azing Studio\, Unit 4\, Manor Farm\, Weston-On-The-Green\, OX25 3QL\, United Kingdom
ATTACH;FMTTYPE=image/jpeg:https://oxfordshirewellness.co.uk/wp-content/uploads/2026/03/WhatsApp-Image-2026-03-02.jpeg
END:VEVENT
END:VCALENDAR